BEGIN:VCALENDAR
VERSION:2.0
PRODID:-//United Nations Association London and South-East Region - ECPv6.15.20//NONSGML v1.0//EN
CALSCALE:GREGORIAN
METHOD:PUBLISH
X-WR-CALNAME:United Nations Association London and South-East Region
X-ORIGINAL-URL:https://unalaser.org
X-WR-CALDESC:Events for United Nations Association London and South-East Region
REFRESH-INTERVAL;VALUE=DURATION:PT1H
X-Robots-Tag:noindex
X-PUBLISHED-TTL:PT1H
BEGIN:VTIMEZONE
TZID:UTC
BEGIN:STANDARD
TZOFFSETFROM:+0000
TZOFFSETTO:+0000
TZNAME:UTC
DTSTART:20250101T000000
END:STANDARD
END:VTIMEZONE
BEGIN:VEVENT
DTSTART;TZID=UTC:20260416T173000
DTEND;TZID=UTC:20260416T200000
DTSTAMP:20260420T091303
CREATED:20260406T113909Z
LAST-MODIFIED:20260406T113909Z
UID:3535-1776360600-1776369600@unalaser.org
SUMMARY:Promoting the Psychosocial Wellbeing of Refugees
DESCRIPTION:On 16th April\, 17:30-20:00\, United Against Inhumanity\, with the University of East London (UEL)\, is holding a hybrid event on Promoting the Psychosocial Wellbeing of Refugees\, to launch their manifesto\, To Stop the Inhumanity at Europe’s Borders\, and to consider the causes\, consequences and effective interventions for the distress experienced by many refugees. Speakers will include Lul Seyoum (International Centre for Eritrean Refugees)\, Dr Claire Marshall (UEL)\, Rev Johannes Marten (Good Shepherd\, London)\, Professor Emeritus Dinesh Bhugra (King’s College\, London)\, Yodit Mussie (Refugee Council)\, Dr. Nooralhaq Nasimi (Afghanistan and Central Asian Association). The event will be at UEL: University Square Stratford\, 1 Salway Road\, London E15 1NF\, and on Microsoft Teams. For further information and to register\, please go here.
URL:https://unalaser.org/events/promoting-the-psychosocial-wellbeing-of-refugees
LOCATION:UEL: University Square Stratford\, Salway Road\, London\, E15 1NF\, United Kingdom
END:VEVENT
END:VCALENDAR