BEGIN:VCALENDAR
VERSION:2.0
PRODID:-//United Nations Association London and South-East Region - ECPv6.15.20//NONSGML v1.0//EN
CALSCALE:GREGORIAN
METHOD:PUBLISH
X-WR-CALNAME:United Nations Association London and South-East Region
X-ORIGINAL-URL:https://unalaser.org
X-WR-CALDESC:Events for United Nations Association London and South-East Region
REFRESH-INTERVAL;VALUE=DURATION:PT1H
X-Robots-Tag:noindex
X-PUBLISHED-TTL:PT1H
BEGIN:VTIMEZONE
TZID:UTC
BEGIN:STANDARD
TZOFFSETFROM:+0000
TZOFFSETTO:+0000
TZNAME:UTC
DTSTART:20250101T000000
END:STANDARD
END:VTIMEZONE
BEGIN:VEVENT
DTSTART;TZID=UTC:20260420T183000
DTEND;TZID=UTC:20260420T183000
DTSTAMP:20260420T141757
CREATED:20260212T112114Z
LAST-MODIFIED:20260406T112521Z
UID:3433-1776709800-1776709800@unalaser.org
SUMMARY:23rd Ruth Steinkraus-Cohn International Law Lecture
DESCRIPTION:On 20th April\, 18:30\, at SOAS Gallery\, Russell Square\, London WC1B 5DQ\, UNA Westminster – with SOAS at the University of London\, and the Bar Council of England and Wales – is hosting the 23rd Ruth Steinkraus-Cohn International Law Lecture. Professor Philippa Webb (University of Oxford Blavatnik School of Government) will be speaking on Toppling Heads: Regime Change and Immunity in International Law. This free\, in-person lecture will be followed by a reception. Please register here.
URL:https://unalaser.org/events/23rd-ruth-steinkraus-cohn-international-law-lecture
LOCATION:SOAS Gallery\, Russell Square\, London\, England\, WC1B 5DQ\, United Kingdom
END:VEVENT
END:VCALENDAR