BEGIN:VCALENDAR
VERSION:2.0
PRODID:-//United Nations Association London and South-East Region - ECPv6.15.20//NONSGML v1.0//EN
CALSCALE:GREGORIAN
METHOD:PUBLISH
X-ORIGINAL-URL:https://unalaser.org
X-WR-CALDESC:Events for United Nations Association London and South-East Region
REFRESH-INTERVAL;VALUE=DURATION:PT1H
X-Robots-Tag:noindex
X-PUBLISHED-TTL:PT1H
BEGIN:VTIMEZONE
TZID:UTC
BEGIN:STANDARD
TZOFFSETFROM:+0000
TZOFFSETTO:+0000
TZNAME:UTC
DTSTART:20240101T000000
END:STANDARD
END:VTIMEZONE
BEGIN:VEVENT
DTSTART;TZID=UTC:20250913T100000
DTEND;TZID=UTC:20250913T170000
DTSTAMP:20260423T151403
CREATED:20250908T071857Z
LAST-MODIFIED:20250908T071857Z
UID:3200-1757757600-1757782800@unalaser.org
SUMMARY:Climate and Nature Coalition
DESCRIPTION:On 13th September\, 10:00-17:00\, UNA Tunbridge Wells and Wealden\, members of the Tunbridge Wells Climate and Nature Coalition\, will stage a stall at Calverley Ground\, TN1 1SJ. They are also taking part in water monitoring and are working to establish a Plastic-Free Tunbridge Wells. For further information\, please contact Marguerita Morton.
URL:https://unalaser.org/events/climate-and-nature-coalition
LOCATION:Calverley Ground\, England\, TN1 1SJ\, United Kingdom
END:VEVENT
BEGIN:VEVENT
DTSTART;TZID=UTC:20250923T193000
DTEND;TZID=UTC:20250923T210000
DTSTAMP:20260423T151403
CREATED:20250908T072453Z
LAST-MODIFIED:20250908T072453Z
UID:3206-1758655800-1758661200@unalaser.org
SUMMARY:Politics and Experiences in Iran
DESCRIPTION:On 23rd September\, 19:30-21:30\, UNA Wandsworth is holding an in-person event at Community Church Putney\, Werter Road\, SW15 2LL with talks and discussion on Politics and Experiences in Iran\, led by Masoud Ahmadi and Ahmad Ibrahimi from the International Liberty Association. For further information\, please contact Meena Storey.
URL:https://unalaser.org/events/politics-and-experiences-in-iran
LOCATION:Community Church Putney\, Community Church Putney\, Werter Rd\, Putney\, London\, SW15 2LL\, United Kingdom
END:VEVENT
BEGIN:VEVENT
DTSTART;VALUE=DATE:20250927
DTEND;VALUE=DATE:20250928
DTSTAMP:20260423T151403
CREATED:20250823T040106Z
LAST-MODIFIED:20250908T072652Z
UID:3173-1758931200-1759017599@unalaser.org
SUMMARY:UN Peacekeeping in the 2020s
DESCRIPTION:On 27th September\, 10:20-12:30\, UNA Harpenden is hosting a public lecture at the Salvation Army\, Leyton Green\, Harpenden AL5 2TG on UN Peacekeeping in the 2020s by Dr David Curran\, Coventry University. Please register here.
URL:https://unalaser.org/events/un-peacekeeping-in-the-2020s
LOCATION:Salvation Army Hall\, Salvation Army Hall\, Harpenden\, Hertfordshire\, England\, AL5 2TG\, United Kingdom
END:VEVENT
END:VCALENDAR