BEGIN:VCALENDAR
VERSION:2.0
PRODID:-//United Nations Association London and South-East Region - ECPv6.15.20//NONSGML v1.0//EN
CALSCALE:GREGORIAN
METHOD:PUBLISH
X-ORIGINAL-URL:https://unalaser.org
X-WR-CALDESC:Events for United Nations Association London and South-East Region
REFRESH-INTERVAL;VALUE=DURATION:PT1H
X-Robots-Tag:noindex
X-PUBLISHED-TTL:PT1H
BEGIN:VTIMEZONE
TZID:UTC
BEGIN:STANDARD
TZOFFSETFROM:+0000
TZOFFSETTO:+0000
TZNAME:UTC
DTSTART:20240101T000000
END:STANDARD
END:VTIMEZONE
BEGIN:VEVENT
DTSTART;TZID=UTC:20251108T100000
DTEND;TZID=UTC:20251108T173000
DTSTAMP:20260423T111046
CREATED:20251010T075904Z
LAST-MODIFIED:20251101T113517Z
UID:3268-1762596000-1762623000@unalaser.org
SUMMARY:Debt Justice
DESCRIPTION:On 8th November\, 10:00-17:30\, Debt Justice (of which LASER is a supporter) is hosting their Debt Justice National Gathering at Oxford House\, Bethnal Green\, London E2 6HG. Speakers – including Heidi Chow\, Grace Buckley\, Sotez Chowdhury and Jo Barker-Marsh – will explain about the 54 countries currently in debt crisis and also share campaigning skills and plans. The event is free\, with lunch provided. Reserve your place here.
URL:https://unalaser.org/events/debt-justice
LOCATION:Oxford House\, Oxford House\, Bethnal Green\, England\, London E2 6HG\, United Kingdom
END:VEVENT
BEGIN:VEVENT
DTSTART;TZID=UTC:20251109T150000
DTEND;TZID=UTC:20251109T150000
DTSTAMP:20260423T111046
CREATED:20251101T113708Z
LAST-MODIFIED:20251101T113708Z
UID:3330-1762700400-1762700400@unalaser.org
SUMMARY:Movement for the Abolition of War
DESCRIPTION:On 9th November\, 15:00\, the Movement for the Abolition of War is holding its Annual Remembrance Lecture\, to be given by Lord John Alderdice\, Director of the Centre for the Resolution of Intractable Conflict\, Oxford. He will be talking at Hamilton House\, Mabledon Place\, London WC1H 9BD on Ending Wars\, wondering if it will be possible that out of the immediate worldwide crises of wars and climate catastrophe a new approach can be fashioned to deal with our deepest differences. For further information see here. The event is free\, but please register for tickets here. Following the lecture\, at 17:00 at Friends House\, 173-177 Euston Road NW1 2BJ\, Every Casualty Counts is launching its Memorial 2025\, remembering stories of people who lost their lives to armed conflict in 2024\, projected onto Friends House.
URL:https://unalaser.org/events/movement-for-the-abolition-of-war-2
LOCATION:Hamilton House\, Mabledon Place\, London\, WC1H 9BD\, United Kingdom
END:VEVENT
BEGIN:VEVENT
DTSTART;TZID=UTC:20251115T100000
DTEND;TZID=UTC:20251115T163000
DTSTAMP:20260423T111046
CREATED:20250908T074100Z
LAST-MODIFIED:20251101T112637Z
UID:3222-1763200800-1763224200@unalaser.org
SUMMARY:Ocean Wonder: Sustaining what sustains us
DESCRIPTION:On 15th November 10:00-16:30\, UNA Climate and Oceans will join policy makers\, civil society organisations\, marine scientists\, artists\, educators and young people for an event at St Peter’s Community Centre\, Bexhill TN41 2HE\, with the theme Ocean Wonder: sustaining what sustains us. This day – dedicated to protecting and celebrating oceans – will include expert speakers\, new marine project launches\, panel discussions\, underwater films\, community-led ocean initiatives and a showcase of cutting-edge ocean technology and marine innovation\, as well as many stalls. The cost is £7.21 and you can book here.
URL:https://unalaser.org/events/wonder-sustaining-what-sustains-us-2
LOCATION:St Peter’s Community Centre\, St Peter’s Community Centre\, Bexhill TN41 2HE\, United Kingdom
END:VEVENT
BEGIN:VEVENT
DTSTART;TZID=UTC:20251115T140000
DTEND;TZID=UTC:20251115T163000
DTSTAMP:20260423T111046
CREATED:20251101T112350Z
LAST-MODIFIED:20251101T112516Z
UID:3315-1763215200-1763224200@unalaser.org
SUMMARY:AGM of UNA Southern Region
DESCRIPTION:On 15th November\, 14:00-16:30\, UNA Southern Region is holding their AGM\, at St John’s Church\, Newbury\, RG14 7PY. The meeting will be presided over by Tony Vickers\, the Chair of West Berkshire. The meeting is free and will include tea; all are welcome. For further information\, please contact the Southern Region Chair.
URL:https://unalaser.org/events/agm-of-una-southern-region
LOCATION:St John’s Church\, Newbury\, RG14 7PY\, United Kingdom
END:VEVENT
BEGIN:VEVENT
DTSTART;TZID=UTC:20251122T100000
DTEND;TZID=UTC:20251122T100000
DTSTAMP:20260423T111046
CREATED:20251108T103512Z
LAST-MODIFIED:20251108T103512Z
UID:3338-1763805600-1763805600@unalaser.org
SUMMARY:Responses to Children Living in Poverty Overseas
DESCRIPTION:On Saturday 22 November at 10:15 for 10:30 am\, UNA Harpenden will be hosting a public lecture on Responses to Children Living in Poverty Overseas: The impact of education in sustainable development by John White\, CEO of Global Care\, at the Salvation Army Hall\, Leyton Green\, Harpenden AL5 2TG. Click here for more information about the talk and the speaker. Register here for the talk.
URL:https://unalaser.org/events/responses-to-children-living-in-poverty-overseas
LOCATION:Salvation Army Hall\, Salvation Army Hall\, Harpenden\, Hertfordshire\, England\, AL5 2TG\, United Kingdom
END:VEVENT
BEGIN:VEVENT
DTSTART;TZID=UTC:20251122T103000
DTEND;TZID=UTC:20251122T123000
DTSTAMP:20260423T111046
CREATED:20251101T113121Z
LAST-MODIFIED:20251101T113121Z
UID:3322-1763807400-1763814600@unalaser.org
SUMMARY:Responses to Children Living in Poverty Overseas: The impact of education in sustainable development
DESCRIPTION:On 22nd November\, 10:30-12:30\, UNA Harpenden is hosting a free hybrid public lecture on Responses to Children Living in Poverty Overseas: The impact of education in sustainable development by John White (CEO\, Global Care) at the Salvation Army\, Leyton Green\, Harpenden AL5 2TG. More about the speaker here; please register here.
URL:https://unalaser.org/events/responses-to-children-living-in-poverty-overseas-the-impact-of-education-in-sustainable-development
LOCATION:Salvation Army Hall\, Salvation Army Hall\, Harpenden\, Hertfordshire\, England\, AL5 2TG\, United Kingdom
END:VEVENT
BEGIN:VEVENT
DTSTART;TZID=UTC:20251122T133000
DTEND;TZID=UTC:20251122T133000
DTSTAMP:20260423T111046
CREATED:20251101T112855Z
LAST-MODIFIED:20251101T112855Z
UID:3319-1763818200-1763818200@unalaser.org
SUMMARY:Climate and Sustainability Youth Summit
DESCRIPTION:On 22nd November\, 13:30\, UNA Climate and Oceans is joining with the Leverhulme Centre for Wildfires\, Environment and Society to host a Climate and Sustainability Youth Summit\, at the Lecture Theatre CAGB 200\, Imperial College\, Exhibition Road\, London to discuss the development of COP30 and come up with proposals for the future. The event is happening during COP30\, so will have the most updated information available. There will be inspiring keynote speakers\, interactive workshops\, and opportunities to engage in thought-provoking discussion. Tickets for this free event are available here.
URL:https://unalaser.org/events/climate-and-sustainability-youth-summit
END:VEVENT
BEGIN:VEVENT
DTSTART;TZID=UTC:20251125T183000
DTEND;TZID=UTC:20251125T183000
DTSTAMP:20260423T111046
CREATED:20251101T113434Z
LAST-MODIFIED:20251101T113434Z
UID:3327-1764095400-1764095400@unalaser.org
SUMMARY:Refugee Protection in Turbulent Times
DESCRIPTION:On 25th November\, 18:30\, UNA Blackheath and Greenwich is joining with the University of Greenwich to host a free event on Refugee Protection in Turbulent Times. The speakers will be Vicky Tennant (UK Representative\, UN High Commission for Refugees) and Chloe White (CEO\, Action for Refugees in Lewisham). The talk will be at the University of Greenwich\, 1st Floor\, Queen Anne Building\, Room 180. To attend\, please send an email here.
URL:https://unalaser.org/events/refugee-protection-in-turbulent-times
END:VEVENT
BEGIN:VEVENT
DTSTART;TZID=UTC:20251127T130000
DTEND;TZID=UTC:20251127T180000
DTSTAMP:20260423T111046
CREATED:20251101T113933Z
LAST-MODIFIED:20251101T113933Z
UID:3333-1764248400-1764266400@unalaser.org
SUMMARY:Annual movement gathering
DESCRIPTION:On 27th November\, 13:00-18:00\, the Climate Coalition (of which LASER is a member) is holding a hybrid annual movement gathering at Lift\, London N1 9PW. The event will celebrate achievements\, strengthen connections and plan next steps. The formal event will finish at 16:30 and be followed by drinks and nibbles\, with opportunities for networking\, including the inaugural great Big Green Quiz. For further information and to register\, please go here.
URL:https://unalaser.org/events/annual-movement-gathering
LOCATION:Lift\, Lift\, London\, N1 9PW\, United Kingdom
END:VEVENT
END:VCALENDAR