BEGIN:VCALENDAR
VERSION:2.0
PRODID:-//United Nations Association London and South-East Region - ECPv6.15.20//NONSGML v1.0//EN
CALSCALE:GREGORIAN
METHOD:PUBLISH
X-WR-CALNAME:United Nations Association London and South-East Region
X-ORIGINAL-URL:https://unalaser.org
X-WR-CALDESC:Events for United Nations Association London and South-East Region
REFRESH-INTERVAL;VALUE=DURATION:PT1H
X-Robots-Tag:noindex
X-PUBLISHED-TTL:PT1H
BEGIN:VTIMEZONE
TZID:UTC
BEGIN:STANDARD
TZOFFSETFROM:+0000
TZOFFSETTO:+0000
TZNAME:UTC
DTSTART:20240101T000000
END:STANDARD
END:VTIMEZONE
BEGIN:VEVENT
DTSTART;TZID=UTC:20251211T180000
DTEND;TZID=UTC:20251211T193000
DTSTAMP:20260421T160823
CREATED:20251205T041332Z
LAST-MODIFIED:20251205T041332Z
UID:3362-1765476000-1765481400@unalaser.org
SUMMARY:Reflections on Selecting a Secretary-General
DESCRIPTION:On 11th December\, 18:00-19:30\, UNA-UK Is hosting Sir Matthew Rycroft\, former UK Permanent Representative at the UN\, to speak on Reflections on Selecting a Secretary-General. The free event will be at UNA-UK headquarters (3 Whitehall Court\, London SW1) and online. Please register and get further details here.
URL:https://unalaser.org/events/reflections-on-selecting-a-secretary-general
END:VEVENT
BEGIN:VEVENT
DTSTART;TZID=UTC:20251212T183000
DTEND;TZID=UTC:20251212T190000
DTSTAMP:20260421T160823
CREATED:20251205T041834Z
LAST-MODIFIED:20251205T041834Z
UID:3367-1765564200-1765566000@unalaser.org
SUMMARY:Ocean
DESCRIPTION:On 12th December\, 18:30-21:00\, UNA Climate and Oceans is hosting at Stade Hall\, Hastings TN34 3FJ a presentation of Ocean\, the Film of the Year\, presented by David Attenborough. The event is sold out online\, but contact UNA Climate and Oceans to join a queue for cancellations.
URL:https://unalaser.org/events/ocean
END:VEVENT
END:VCALENDAR