BEGIN:VCALENDAR
VERSION:2.0
PRODID:-//United Nations Association London and South-East Region - ECPv6.15.20//NONSGML v1.0//EN
CALSCALE:GREGORIAN
METHOD:PUBLISH
X-WR-CALNAME:United Nations Association London and South-East Region
X-ORIGINAL-URL:https://unalaser.org
X-WR-CALDESC:Events for United Nations Association London and South-East Region
REFRESH-INTERVAL;VALUE=DURATION:PT1H
X-Robots-Tag:noindex
X-PUBLISHED-TTL:PT1H
BEGIN:VTIMEZONE
TZID:UTC
BEGIN:STANDARD
TZOFFSETFROM:+0000
TZOFFSETTO:+0000
TZNAME:UTC
DTSTART:20250101T000000
END:STANDARD
END:VTIMEZONE
BEGIN:VEVENT
DTSTART;TZID=UTC:20260117T120000
DTEND;TZID=UTC:20260117T170000
DTSTAMP:20260421T143124
CREATED:20251205T041529Z
LAST-MODIFIED:20260108T041919Z
UID:3364-1768651200-1768669200@unalaser.org
SUMMARY:Peace\, Security and Justice\, Addressing Planetary Challenges\, A UN Fit for Future Generations
DESCRIPTION:On 17th January\, 2026\, 12:00-17:00\, UNA-UK is celebrating UNGA at 80\, marking the 80th anniversary of the first meeting of the UN General Assembly\, in Methodist Central Hall\, Westminster\, with panels on Peace\, Security and Justice\, Addressing Planetary Challenges\, A UN Fit for Future Generations. This will be attended by leaders in international cooperation from the UK and around the world. Registration is here; please make a generous donation to help cover the costs.
URL:https://unalaser.org/events/peace-security-and-justice-addressing-planetary-challenges-a-un-fit-for-future-generations
END:VEVENT
BEGIN:VEVENT
DTSTART;TZID=UTC:20260124T180000
DTEND;TZID=UTC:20260124T180000
DTSTAMP:20260421T143124
CREATED:20251101T113256Z
LAST-MODIFIED:20260108T042011Z
UID:3325-1769277600-1769277600@unalaser.org
SUMMARY:Burns Night Supper
DESCRIPTION:On 24th January\, 2026\, 18:00\, UNA Harpenden is hosting a Burns Night Supper at Park Hall\, Leyton Road\, Harpenden AL15 2LX. There will be songs\, poetry\, dancing and delicious Scottish food. The cost will be £30 per head\, to be paid by 24th November. Please register here.
URL:https://unalaser.org/events/burns-night-supper
LOCATION:Park Hall\, Park Hall\, Leyton Road\, Harpenden\, AL5 2LX\, United Kingdom
END:VEVENT
END:VCALENDAR