BEGIN:VCALENDAR
VERSION:2.0
PRODID:-//United Nations Association London and South-East Region - ECPv6.15.20//NONSGML v1.0//EN
CALSCALE:GREGORIAN
METHOD:PUBLISH
X-ORIGINAL-URL:https://unalaser.org
X-WR-CALDESC:Events for United Nations Association London and South-East Region
REFRESH-INTERVAL;VALUE=DURATION:PT1H
X-Robots-Tag:noindex
X-PUBLISHED-TTL:PT1H
BEGIN:VTIMEZONE
TZID:UTC
BEGIN:STANDARD
TZOFFSETFROM:+0000
TZOFFSETTO:+0000
TZNAME:UTC
DTSTART:20250101T000000
END:STANDARD
END:VTIMEZONE
BEGIN:VEVENT
DTSTART;TZID=UTC:20260214T103000
DTEND;TZID=UTC:20260214T103000
DTSTAMP:20260421T123736
CREATED:20260117T114617Z
LAST-MODIFIED:20260212T110810Z
UID:3401-1771065000-1771065000@unalaser.org
SUMMARY:Speaking about the Israel / Palestine Situation
DESCRIPTION:On 14th February\, 10:30\, UNA Harpenden is hosting a hybrid public event at the Salvation Army\, Harpenden AL5 2TG\, on Speaking about the Israel/Palestine Conflict\, led by Jenny Manson\, co-chair of Jewish Voices for Liberation. You can find out more about the speaker. All are welcome; refreshments will be available. Please register here.
URL:https://unalaser.org/events/speaking-about-the-israel-palestine-situation
LOCATION:Salvation Army Hall\, Salvation Army Hall\, Harpenden\, Hertfordshire\, England\, AL5 2TG\, United Kingdom
END:VEVENT
BEGIN:VEVENT
DTSTART;TZID=UTC:20260214T103000
DTEND;TZID=UTC:20260214T103000
DTSTAMP:20260421T123736
CREATED:20260212T111040Z
LAST-MODIFIED:20260212T111040Z
UID:3421-1771065000-1771065000@unalaser.org
SUMMARY:Diverse Global Future – how the world is becoming less western
DESCRIPTION:On 14th March\, 10:30\, UNA Harpenden is hosting a hybrid public lecture on Diverse Global Future – how the world is becoming less western by Dr Samir Puri (King’s College\, London) at Salvation Army\, Harpenden AL5 2TG. Please see more about the speaker here and register here.
URL:https://unalaser.org/events/diverse-global-future-how-the-world-is-becoming-less-western
LOCATION:Salvation Army Hall\, Salvation Army Hall\, Harpenden\, Hertfordshire\, England\, AL5 2TG\, United Kingdom
END:VEVENT
BEGIN:VEVENT
DTSTART;TZID=UTC:20260217T190000
DTEND;TZID=UTC:20260217T190000
DTSTAMP:20260421T123736
CREATED:20260212T111253Z
LAST-MODIFIED:20260212T111253Z
UID:3424-1771354800-1771354800@unalaser.org
SUMMARY:International Mother Language Day
DESCRIPTION:On 17th February\, 19:00\, UNA Luton\, with Purbachal – the Eastern Sky\, is holding a free online event celebrating International Mother Language Day. The event will include talk\, poetry\, song\, and dance; it aims to promote awareness about the importance of promoting and preserving mother languages as significant cultural identities for all communities in plural societies\, helping to build PEACE across diversity. The Zoom link is here\, with passcode 739496.
URL:https://unalaser.org/events/international-mother-language-day-2
END:VEVENT
BEGIN:VEVENT
DTSTART;TZID=UTC:20260226T190000
DTEND;TZID=UTC:20260226T190000
DTSTAMP:20260421T123736
CREATED:20260212T111544Z
LAST-MODIFIED:20260212T111544Z
UID:3427-1772132400-1772132400@unalaser.org
SUMMARY:The Story of the Nigerian-Biafran Conflict\, Fifty-Six Years On
DESCRIPTION:On 26th February\, 19:00\, UNA Tunbridge Wells and Wealden will hold – at the Old Auction House\, Tunbridge Wells\, TN2 5QL – a public talk on The Story of the Nigerian-Biafran Conflict\, Fifty-Six Years On. The talk will be given by Councillor Ukonu Obasi (former Executive Director of a Nigerian charity and advocate of human rights and the self-determination of Biafrans). Please register for this free talk here.
URL:https://unalaser.org/events/the-story-of-the-nigerian-biafran-conflict-fifty-six-years-on
LOCATION:The Old Auction House\, The Old Auction House\, Linden Park Road\, Tunbridge Wells\, TN2 5QL\, United Kingdom
END:VEVENT
BEGIN:VEVENT
DTSTART;TZID=UTC:20260228T130000
DTEND;TZID=UTC:20260228T173000
DTSTAMP:20260421T123736
CREATED:20260212T111755Z
LAST-MODIFIED:20260212T111755Z
UID:3431-1772283600-1772299800@unalaser.org
SUMMARY:Warfare\, Welfare\, Climate Change and the United Nations
DESCRIPTION:On Saturday 28th February\, 13:15 – 17:15\, UNA Bexhill and Hastings are holding their AGM (13:13 – 14:00) followed by a public seminar on Warfare\, Welfare\, Climate Change and the United Nations\, led by Gonzalo Alvarez (Chair of UNA Climate and Oceans\, and LASER Climate and Oceans Officer) and Sheila Kesby (Chair of UNA Bexhill and Hastings). This will be at St. Peter’s Community Centre\, Bexhill-on-Sea\, TN40 2HE. Within their campaign for Strengthening the United Nations by supporting Member States to fulfil their obligations to the UN Charter\, they will address how the mal-effects of Escalating Warfare and Climate Change negate the mitigating measures taken by their respective campaigns. The event is free\, but donations will be welcome on the day. Registration will be at the event.
URL:https://unalaser.org/events/warfare-welfare-climate-change-and-the-united-nations
LOCATION:St. Peter’s Community Centre\, Church Street\, Bexhill\, England\, TN40 2HE\, United Kingdom
END:VEVENT
END:VCALENDAR