BEGIN:VCALENDAR
VERSION:2.0
PRODID:-//United Nations Association London and South-East Region - ECPv6.15.20//NONSGML v1.0//EN
CALSCALE:GREGORIAN
METHOD:PUBLISH
X-ORIGINAL-URL:https://unalaser.org
X-WR-CALDESC:Events for United Nations Association London and South-East Region
REFRESH-INTERVAL;VALUE=DURATION:PT1H
X-Robots-Tag:noindex
X-PUBLISHED-TTL:PT1H
BEGIN:VTIMEZONE
TZID:UTC
BEGIN:STANDARD
TZOFFSETFROM:+0000
TZOFFSETTO:+0000
TZNAME:UTC
DTSTART:20250101T000000
END:STANDARD
END:VTIMEZONE
BEGIN:VEVENT
DTSTART;TZID=UTC:20260503T100000
DTEND;TZID=UTC:20260503T170000
DTSTAMP:20260421T102201
CREATED:20260406T113229Z
LAST-MODIFIED:20260406T113229Z
UID:3528-1777802400-1777827600@unalaser.org
SUMMARY:Tunbridge Wells Climate and Nature Fair
DESCRIPTION:On 3rd May\, 10:00-17:00\, UNA Tunbridge Wells and Wealden will be participating in the Tunbridge Wells Climate and Nature Fair at Calverley Ground\, Tunbridge Wells.
URL:https://unalaser.org/events/tunbridge-wells-climate-and-nature-fair
END:VEVENT
BEGIN:VEVENT
DTSTART;TZID=UTC:20260505T073000
DTEND;TZID=UTC:20260505T073000
DTSTAMP:20260421T102201
CREATED:20260406T113703Z
LAST-MODIFIED:20260406T113703Z
UID:3533-1777966200-1777966200@unalaser.org
SUMMARY:Misogyny and the AI Revolution
DESCRIPTION:On 5th May\, 19:30 UNA Wandsworth is hosting a public meeting on Misogyny and the AI Revolution\, with speaker Dr Aislinn O’Connell (Royal Holloway\, University of London) and chair Catherine Pluygers. The presentation will be followed by discussion. There is no need to register. For further information\, please contact Catherine Pluygers or Robert Storey.
URL:https://unalaser.org/events/misogyny-and-the-ai-revolution
END:VEVENT
BEGIN:VEVENT
DTSTART;TZID=UTC:20260516T103000
DTEND;TZID=UTC:20260516T103000
DTSTAMP:20260421T102201
CREATED:20260406T112229Z
LAST-MODIFIED:20260406T112229Z
UID:3516-1778927400-1778927400@unalaser.org
SUMMARY:Natural Capital: Bringing ecology and economy together
DESCRIPTION:On 16th May\, 10:30\, UNA Harpenden is hosting a hybrid public lecture on Natural Capital: Bringing ecology and economy together by Professor Emeritus Sir Partha Dasgupta (Cambridge University) at Salvation Army\, Harpenden AL5 2TG. Refreshments will be available. For more information and to register\, please go here and scroll down.
URL:https://unalaser.org/events/natural-capital-bringing-ecology-and-economy-together
LOCATION:Salvation Army Hall\, Salvation Army Hall\, Harpenden\, Hertfordshire\, England\, AL5 2TG\, United Kingdom
END:VEVENT
BEGIN:VEVENT
DTSTART;TZID=UTC:20260521T130000
DTEND;TZID=UTC:20260521T130000
DTSTAMP:20260421T102201
CREATED:20260305T064705Z
LAST-MODIFIED:20260406T112632Z
UID:3471-1779368400-1779368400@unalaser.org
SUMMARY:International Day of United Nations Peacekeeping
DESCRIPTION:On 21st May\, 13:00\, at the cenotaph in Whitehall\, UNA Westminster will be coordinating\, with UNA UK\, the annual Peacekeepers Day\, marking the International Day of United Nations Peacekeeping\, honouring those who have died in the cause of peace and recognising those from 120 countries who have served as UN Peacekeepers. More information will be shared on the UNA Westminster website and in future editions of Pulse.
URL:https://unalaser.org/events/international-day-of-united-nations-peacekeeping
END:VEVENT
END:VCALENDAR